BEGIN:VCALENDAR
VERSION:2.0
PRODID:-//Portal Skate Vale Brasil - ECPv6.15.20//NONSGML v1.0//EN
CALSCALE:GREGORIAN
METHOD:PUBLISH
X-WR-CALNAME:Portal Skate Vale Brasil
X-ORIGINAL-URL:https://skatevalebrasil.com.br
X-WR-CALDESC:Eventos para Portal Skate Vale Brasil
REFRESH-INTERVAL;VALUE=DURATION:PT1H
X-Robots-Tag:noindex
X-PUBLISHED-TTL:PT1H
BEGIN:VTIMEZONE
TZID:America/Sao_Paulo
BEGIN:STANDARD
TZOFFSETFROM:-0300
TZOFFSETTO:-0300
TZNAME:-03
DTSTART:20240101T000000
END:STANDARD
END:VTIMEZONE
BEGIN:VEVENT
DTSTART;TZID=America/Sao_Paulo:20250718T080000
DTEND;TZID=America/Sao_Paulo:20250720T170000
DTSTAMP:20260420T093503
CREATED:20250714T221302Z
LAST-MODIFIED:20250714T222120Z
UID:362375-1752825600-1753030800@skatevalebrasil.com.br
SUMMARY:/// BIG POOL DAY
DESCRIPTION:SOBRE O BIG POOL DAY \n\n\n\n\n\n\nCriado em 2014\, o Big Pool Day\, ou a Maior Festa do Skateboard Brasileiro\, é um evento que reúne grandes nomes do skateboard brasileiro e internacional em uma “competição” da modalidade skate park\, realizada especificamente em uma “piscina skatável”\, por isso o nome Big Pool. \n\n\n\nInicialmente o evento era realizado em uma piscina desativada de um clube da cidade de Caçapava – SP. Observando a piscina\, Beto “Olliegator”\, uma lenda do skateboard valeparaibano\, percebeu que a sua arquitetura permitia a execução de manobras. Em suas tentativas de andar de skate na piscina descobriu que sua percepção era real e junto com seu parceiro Felipe Vital teve a ideia de chamar skatistas notáveis para se desafiarem na piscina. Assim\, surgiu ao mesmo tempo um evento de grande porte\, em que o público poderia se divertir com skate\, atrações musicais e uma grande festa\, realizado pela Posso!. \n\n\n\nNos anos de 2014\, 2017\, 2018 e 2019 o Big Pool Day movimentou a região do Vale do Paraíba com suas 4 edições\, sendo a partir de 2017 apresentado pela Converse Cons e atraindo outros patrocinadores e apoiadores de diversas áreas\, como a Red Bull. O Big Pool Day já recebeu skatistas notáveis da cena do skateboard\, como Felipe Foguinho\, campeoão de 2014\, Pedro Barros e Augusto Akio\, medalhistas olímpicos que foram campeões do Big Pool Day em 2017 e 2019 respectivamente\, e Murilo Peres\, campeão em 2018. \n\n\n\nEm 2019\, após a quarta edição do evento\, a administração conservadora do clube em que era realizado o evento decide demolir a piscina “skatavel” e a maior festa do skateboard brasileiro perde seu lar e suas possibilidades de acontecer – não existia em nenhum outro local do país uma pista como aquela. \n\n\n\nEm 2023\, após muita luta\, a Prefeitura de Caçapava aprova o projeto de construção da primeira pista considerada “piscina skatável” pública do Brasil. A pista Big Pool ficou pronta e teve sua inauguração realizada em Abril de 2024\, com três dias de festa\, skate\, música\, reencontros e uma grande celebração ao skateboard brasileiro na quinta edição do Big Pool Day\, no ano em que comemorou seus 10 anos de resistência \n\n\n\n\n\n\n\n\n\nEm 2024\, fizemos história mais uma vez\, fortalecendo a verdadeira essência do skateboard que é a “amizade e diversão acima de tudo” e\, dessa vez\, em uma piscina diferente\, única e especial. \n\n\n\nCom a inauguração da nova “piscina skatável” pública\, localizada em Caçapava – SP\, a maior festa do skateboard brasileiro renasceu e do melhor jeito possível\, com skatistas convidados de todo o Brasil\, Best Tricks\, Shows e muito mais.
URL:https://skatevalebrasil.com.br/eventos/big-pool-day/
LOCATION:LOCAL DO EVENTO /// BIG POOL DAY\, R. Pres. Wenceslau Bras\, 171 - Res. Terras do Vale\, Caçapava\, São Paulo\, 12286-285\, Brazil
ATTACH;FMTTYPE=image/png:https://skatevalebrasil.com.br/wp-content/uploads/2025/07/image-22.png
END:VEVENT
END:VCALENDAR