BEGIN:VCALENDAR
VERSION:2.0
PRODID:-//Portal Skate Vale Brasil - ECPv6.15.20//NONSGML v1.0//EN
CALSCALE:GREGORIAN
METHOD:PUBLISH
X-WR-CALNAME:Portal Skate Vale Brasil
X-ORIGINAL-URL:https://skatevalebrasil.com.br
X-WR-CALDESC:Eventos para Portal Skate Vale Brasil
REFRESH-INTERVAL;VALUE=DURATION:PT1H
X-Robots-Tag:noindex
X-PUBLISHED-TTL:PT1H
BEGIN:VTIMEZONE
TZID:America/Sao_Paulo
BEGIN:STANDARD
TZOFFSETFROM:-0300
TZOFFSETTO:-0300
TZNAME:-03
DTSTART:20230101T000000
END:STANDARD
END:VTIMEZONE
BEGIN:VEVENT
DTSTART;TZID=America/Sao_Paulo:20240420T120000
DTEND;TZID=America/Sao_Paulo:20240420T190000
DTSTAMP:20260425T213125
CREATED:20240408T220943Z
LAST-MODIFIED:20240419T204243Z
UID:359903-1713614400-1713639600@skatevalebrasil.com.br
SUMMARY:SLS CHAMPIONSHIP TOUR /// SAN DIEGO
DESCRIPTION:Street League Skateboarding chega a San Diego\, CA com um novo formato emocionante! Assista aos melhores skatistas e maiores personalidades do mundo (incluindo Nyjah Huston\, Rayssa Leal\, Yuto Horigome\, Chloe Covell\, Shane ONeill e mais) competirem pela chance de levantar um dos troféus mais cobiçados do skate de rua. Testemunhe a progressão esportiva em primeira mão em recursos personalizados do parque\, enquanto seus SLS Pros favoritos levam a patinação a novos patamares. \n\n\n\n \n\n\n\n\n\n\n\n \n\n\n\n\n\n\n\n \n\n\n\n \n\n\n\n\n\n\n\n \n\n\n\nO LINK PARA COMPRAR SEU INGRESSO  CLIQUE AQUI!
URL:https://skatevalebrasil.com.br/eventos/sls-championship-tour-san-diego/
LOCATION:Viejas Arena no Aztec Bowl San Diego State University San Diego\, CA\, Viejas Arena no Aztec Bowl\, San Diego State University\, Califórnia\, Estados Unidos
CATEGORIES:Eventos,Profissional,SLS SAN DIEGO
ATTACH;FMTTYPE=image/png:https://skatevalebrasil.com.br/wp-content/uploads/2024/04/image-33.png
END:VEVENT
END:VCALENDAR