BEGIN:VCALENDAR
VERSION:2.0
PRODID:-//Portal Skate Vale Brasil - ECPv6.15.20//NONSGML v1.0//EN
CALSCALE:GREGORIAN
METHOD:PUBLISH
X-ORIGINAL-URL:https://skatevalebrasil.com.br
X-WR-CALDESC:Eventos para Portal Skate Vale Brasil
REFRESH-INTERVAL;VALUE=DURATION:PT1H
X-Robots-Tag:noindex
X-PUBLISHED-TTL:PT1H
BEGIN:VTIMEZONE
TZID:America/Sao_Paulo
BEGIN:STANDARD
TZOFFSETFROM:-0300
TZOFFSETTO:-0300
TZNAME:-03
DTSTART:20210101T000000
END:STANDARD
END:VTIMEZONE
BEGIN:VEVENT
DTSTART;TZID=America/Sao_Paulo:20221002T080000
DTEND;TZID=America/Sao_Paulo:20221016T170000
DTSTAMP:20260424T094646
CREATED:20220921T103558Z
LAST-MODIFIED:20221012T173843Z
UID:8138-1664697600-1665939600@skatevalebrasil.com.br
SUMMARY:STU Open Rio PARK e STREET
DESCRIPTION: 
URL:https://skatevalebrasil.com.br/eventos/stu-open-rio/
LOCATION:Barra da Tijuca\, Rio de Janeiro – RJ\, 22620-280\, Praça Duó - Barra da Tijuca\, Rio de Janeiro\, RJ\, \, 22620-280\, Brasil
CATEGORIES:Amador,Eventos,Feminino,Park,Profissional,Street
ATTACH;FMTTYPE=image/png:https://skatevalebrasil.com.br/wp-content/uploads/2022/10/image-18.png
END:VEVENT
END:VCALENDAR