BEGIN:VCALENDAR
VERSION:2.0
PRODID:-//Portal Skate Vale Brasil - ECPv6.15.20//NONSGML v1.0//EN
CALSCALE:GREGORIAN
METHOD:PUBLISH
X-ORIGINAL-URL:https://skatevalebrasil.com.br
X-WR-CALDESC:Eventos para Portal Skate Vale Brasil
REFRESH-INTERVAL;VALUE=DURATION:PT1H
X-Robots-Tag:noindex
X-PUBLISHED-TTL:PT1H
BEGIN:VTIMEZONE
TZID:America/Sao_Paulo
BEGIN:STANDARD
TZOFFSETFROM:-0300
TZOFFSETTO:-0300
TZNAME:-03
DTSTART:20220101T000000
END:STANDARD
END:VTIMEZONE
BEGIN:VEVENT
DTSTART;TZID=America/Sao_Paulo:20230302T100000
DTEND;TZID=America/Sao_Paulo:20230305T030000
DTSTAMP:20260424T010604
CREATED:20230226T234125Z
LAST-MODIFIED:20230226T234709Z
UID:11359-1677751200-1677985200@skatevalebrasil.com.br
SUMMARY:STU NATIONAL /// 1ª ETAPA PARK CRICIÚMA 2023
DESCRIPTION:
URL:https://skatevalebrasil.com.br/eventos/stu-national-1a-etapa-park-criciuma-2023/
CATEGORIES:Campeonatos,Eventos,Feminino,Masculino,Park,Street
ATTACH;FMTTYPE=image/png:https://skatevalebrasil.com.br/wp-content/uploads/2023/02/DES_20230131_VSES.png
END:VEVENT
BEGIN:VEVENT
DTSTART;TZID=America/Sao_Paulo:20230317T100000
DTEND;TZID=America/Sao_Paulo:20230319T030000
DTSTAMP:20260424T010604
CREATED:20230226T231436Z
LAST-MODIFIED:20230228T030848Z
UID:11353-1679047200-1679194800@skatevalebrasil.com.br
SUMMARY:STU NATIONAL /// 2ª ETAPA PARK e STREET PORTO ALEGRE
DESCRIPTION:
URL:https://skatevalebrasil.com.br/eventos/stu-national-2a-etapa-park-e-street-porto-alegre/
CATEGORIES:Campeonatos,Eventos,Masculino,Park,STU
ATTACH;FMTTYPE=image/jpeg:https://skatevalebrasil.com.br/wp-content/uploads/2023/02/banners-national-poa-cbsk-1080-M18XAT-2494.jpg
END:VEVENT
END:VCALENDAR