BEGIN:VCALENDAR
VERSION:2.0
PRODID:-//Portal Skate Vale Brasil - ECPv6.15.20//NONSGML v1.0//EN
CALSCALE:GREGORIAN
METHOD:PUBLISH
X-ORIGINAL-URL:https://skatevalebrasil.com.br
X-WR-CALDESC:Eventos para Portal Skate Vale Brasil
REFRESH-INTERVAL;VALUE=DURATION:PT1H
X-Robots-Tag:noindex
X-PUBLISHED-TTL:PT1H
BEGIN:VTIMEZONE
TZID:America/Sao_Paulo
BEGIN:STANDARD
TZOFFSETFROM:-0300
TZOFFSETTO:-0300
TZNAME:-03
DTSTART:20220101T000000
END:STANDARD
END:VTIMEZONE
BEGIN:VEVENT
DTSTART;TZID=America/Sao_Paulo:20230909T080000
DTEND;TZID=America/Sao_Paulo:20230909T170000
DTSTAMP:20260423T091923
CREATED:20230829T175023Z
LAST-MODIFIED:20230905T004359Z
UID:13222-1694246400-1694278800@skatevalebrasil.com.br
SUMMARY:SELETIVA PAULISTA DE PARK  /// SÃO BERNARDO DO CAMPO
DESCRIPTION:A cidade de São Bernardo do Campo (SP) receberá no dia 9 de setembro (sábado) a Seletiva Paulista classificatória ao Campeonato Brasileiro de Park de 2023. O Skatepark Fest será realizado na pista do Parque da Juventude Città Di Marostica (Av. Armando Ítalo Setti\, nº 65 – Centro). \n\n\n\nPoderão participar do evento skatistas do estado de São Paulo divididos em cinco categorias Feminino Iniciante (4 melhores garantem vaga no Brasileiro)\, Feminino Amador (4 vagas para o nacional)\, Masculino Iniciante (6 melhores irão para o Brasileiro)\, Masculino Amador (6 vagas para o nacional) e Masculino Master (4 melhores se classificam ao Brasileiro). \n\n\n\nAs inscrições para a competição estão abertas no www.cbsk.com.br\, na área de eventos destinada aos skatistas vinculados ao estado de São Paulo. É necessário estar com cadastro regularizado junto à CBSk para completar a inscrição – não serão realizadas inscrições presenciais ou no dia do evento. \n\n\n\nClique aqui e confira o sistema classificatório ao Brasileiro de Park 2023! \n\n\n\nA Seletiva Paulista de Park 2023 conta com realização da Associação de Skate da Zona Sul de São Paulo (ASZS)\, homologação da Confederação Brasileira de Skateboarding (CBSk)\, Associação Feminina de Skateboarding (AFSK) e Federação Paulista de Skate (FPS) e apoio institucional da prefeitura de São Bernardo pela Secretaria de Esportes e Lazer. \n\n\n\nApoios de Monster\, Powell Peralta\, Bones Wheels\, Bones Bearings\, Mini Logo\, Niggli\, PoolShark\, CS Team\, Jump the Gap\, Level Trucks\, Black Sheep\, Open House\, Ratus Skateshop\, Vinho Hardware\, Constrast\, Skate Drink\, Fresh\, Anarquia\, New Skate\, Entry e Cactus. \n\n\n\n \n\n\n\n/// LOCAL DO EVENTO
URL:https://skatevalebrasil.com.br/eventos/seletiva-paulista-de-park-sera-em-sao-bernardo-do-campo-sp/
LOCATION:LOCAL DO EVENTO\, Av. Armando Ítalo Setti\, nº 65 - Centro\, São Bernardo do Campo\, 09760-280\, Brasil
CATEGORIES:Amador,Campeonato,Feminino,Iniciante,Masculino,Master,Open,Seletiva Paulista
ATTACH;FMTTYPE=image/png:https://skatevalebrasil.com.br/wp-content/uploads/2023/08/image-55.png
END:VEVENT
BEGIN:VEVENT
DTSTART;TZID=America/Sao_Paulo:20230909T080000
DTEND;TZID=America/Sao_Paulo:20230910T170000
DTSTAMP:20260423T091923
CREATED:20230831T130936Z
LAST-MODIFIED:20230831T131840Z
UID:13273-1694246400-1694365200@skatevalebrasil.com.br
SUMMARY:SELETIVA SUL DE PARK /// CRICIÚMA
DESCRIPTION:A cidade de Criciúma (SC) irá receber a Seletiva Sul de Skate Park\, no final de semana de 9 e 10 de setembro. Valendo vagas para o Campeonato Brasileiro de 2023\, o evento acontecerá na pista do Parque Centenário. \n\n\n\n \n\n\n\n\n\n\n\n \n\n\n\n \n\n\n\n/// LOCAL DO EVENTO\n\n\n\n\n\n\n\nFoto  em anexo: Júlio Detefon/Divulgação STU\n\n\n\n \n\n\n\n \n\n\n\nPodem participar do evento skatistas do Paraná\, Rio Grande do Sul e Santa Catarina\, divididos em cinco categorias: Feminino Iniciante (4 melhores garantem vaga no Brasileiro)\, Feminino Amador (4 vagas para o nacional)\, Masculino Iniciante (6 melhores irão para o Brasileiro)\, Masculino Amador (6 vagas para o nacional) e Masculino Master (4 melhores se classificam ao Brasileiro). \n\n\n\nAs inscrições para a competição estão abertas no www.cbsk.com.br\, na área de eventos destinada aos skatistas que podem participar das disputas. É necessário estar com cadastro regularizado junto à CBSk para completar a inscrição – não serão realizadas inscrições presenciais ou no dia do evento. \n\n\n\nClique aqui e confira o caderno de regras da Seletiva Sul de Park 2023! \n\n\n\nA Seletiva Sul de Skate Park 2023 conta com realização da Federação Catarinense de Skate (FCSKT)\, homologação da Confederação Brasileira de Skateboarding (CBSk)\, Federação Gaúcha de Skate (FGSKT) e Federação de Skate do Paraná (FSP). \n\n\n\nApoio institucional da Fundação Municipal de Esportes de Criciúma (SC)\, da Prefeitura de Criciúma (SC) e da Associação Criciumense de Skate (ACSK). \n\n\n\nApoio de Blinca Skate\, Drop Dead Skateboard\, DUO Comunicação Visual\, Front Skateboard\, Gord’s House Skate Shop\, Grow Company\, Hotel Darolt\, Session Store\, DLC Street Shop\, Rock City\, Suntech Original Grip System e Tesla. \n\n\n\nProdução de Switch Work. \n\n\n\n \n\n\n\n/// FONTE CBSK
URL:https://skatevalebrasil.com.br/eventos/seletiva-sul-de-park-criciuma/
LOCATION:LOCAL DO EVENTO\, Rua Palestina\, 390 - São Luís\, Criciúma\, Santa Catarina\, 88803-170\, Brasil
CATEGORIES:Amador,Feminino,Iniciante,Master,Park,Seletiva Sul
ATTACH;FMTTYPE=image/png:https://skatevalebrasil.com.br/wp-content/uploads/2023/08/image-62.png
ORGANIZER;CN="REALIZA%C3%87%C3%83O":MAILTO:fcskt.contato@gmail.com
END:VEVENT
BEGIN:VEVENT
DTSTART;TZID=America/Sao_Paulo:20230916T080000
DTEND;TZID=America/Sao_Paulo:20230917T170000
DTSTAMP:20260423T091923
CREATED:20230830T212617Z
LAST-MODIFIED:20230830T212623Z
UID:13253-1694851200-1694970000@skatevalebrasil.com.br
SUMMARY:SELETIVA NACIONAL PARK /// SALVADOR
DESCRIPTION:Localizada no Petromar em Stella Mares\, tradicional bairro de praia em Salvador\, com uma história no Skate que remete ao anos 90\, o bairro acaba de ganhar uma excelente pista de skate\, para a modalidade Park com características Olímpicas\, para a nova modalidade que não existia ainda no Nordeste. \n\n\n\nEssa pista que hoje é uma realidade para o Skate Baiano\, surgiu de um esforço da Federação Baiana de Skate\, a Confederação Brasileira de Skate\, o hoje Vereador André Fraga que fez toda a ponte entre a Prefeitura Municipal de Salvador e o Governo Federal para viabilizar a verba que inicialmente iria para as cidades dos atletas da seleção olímpica. Como nem todas conseguiram vencer a parte burocrática do processo. Salvador venceu. \n\n\n\n\n\n\n\n \n\n\n\n \n\n\n\n/// LOCAL DO EVENTO\n\n\n\n \n\n\n\n\n\n\n\n \n\n\n\n\n\n\n\n \n\n\n\n \n\n\n\n\n\n\n\n \n\n\n\nA pista tem vários niveis de dificuldade\, com alturas variando de 1\,30m a 2\,70m com varios pontos de extensões\, e incluindo os diversos obstáculos que caracterizam a modalidade.-Wall Ride-Spine-Rampa 45-Love Seat-Vulcão-Pudim-Oververt \n\n\n\nCom a chegada da nova pista\, o bairro ganhou também uma praça no entorno da pista\, e com isso a galera do Street também pode se divertir na área.
URL:https://skatevalebrasil.com.br/eventos/seletiva-nacional-park-salvador/
LOCATION:LOCAL DO EVENTO\, (Rua Euler de Pereira Cardoso\, nº 350\, Salvador\, Bahia\, 41600-045\, Brasil
CATEGORIES:Amador,Bowl,Feminino,Iniciante,Masculino,Master,Park,Profissional,Street
ATTACH;FMTTYPE=image/png:https://skatevalebrasil.com.br/wp-content/uploads/2023/08/image-57.png
ORGANIZER;CN="REALIZA%C3%87%C3%83O":MAILTO:fesebskate@gmail.com
END:VEVENT
BEGIN:VEVENT
DTSTART;TZID=America/Sao_Paulo:20230922T080000
DTEND;TZID=America/Sao_Paulo:20230924T170000
DTSTAMP:20260423T091923
CREATED:20230911T030316Z
LAST-MODIFIED:20230911T030503Z
UID:13560-1695369600-1695574800@skatevalebrasil.com.br
SUMMARY:STU NATIONAL PARK  /// 3ª ETAPA SÃO PAULO
DESCRIPTION:O STU National desembarca pela primeira em São Paulo\, cidade que respira skate\, para promover uma das maiores festas do skate e da cultura urbana\, reunindo alguns dos principais nomes do esporte\, além de ativações durante todo o evento.
URL:https://skatevalebrasil.com.br/eventos/stu-national-park-3a-etapa-sao-paulo/
LOCATION:Local do Evento\, Praça São Perpétuo\, - Barra da Tijuca\,\, Rio de Janeiro\, Rio de Janeiro\, 22620-280\, Brazil
CATEGORIES:Amador,Campeonato,Paraskate,Park,Profissional,Street,STU
ATTACH;FMTTYPE=image/png:https://skatevalebrasil.com.br/wp-content/uploads/2023/09/image-52.png
END:VEVENT
END:VCALENDAR